BEGIN:VCALENDAR
VERSION:2.0
PRODID:-//The Greeves Riders Association - ECPv6.15.20//NONSGML v1.0//EN
CALSCALE:GREGORIAN
METHOD:PUBLISH
X-WR-CALNAME:The Greeves Riders Association
X-ORIGINAL-URL:https://greeves-riders.org.uk
X-WR-CALDESC:Events for The Greeves Riders Association
REFRESH-INTERVAL;VALUE=DURATION:PT1H
X-Robots-Tag:noindex
X-PUBLISHED-TTL:PT1H
BEGIN:VTIMEZONE
TZID:UTC
BEGIN:STANDARD
TZOFFSETFROM:+0000
TZOFFSETTO:+0000
TZNAME:UTC
DTSTART:20250101T000000
END:STANDARD
END:VTIMEZONE
BEGIN:VEVENT
DTSTART;VALUE=DATE:20260927
DTEND;VALUE=DATE:20260928
DTSTAMP:20260420T012310
CREATED:20250211T173407Z
LAST-MODIFIED:20260326T114131Z
UID:10881-1790467200-1790553599@greeves-riders.org.uk
SUMMARY:The Dave Harper Greeves Championship - Foxborough
DESCRIPTION:2026 DHGC season intro & race schedule
URL:https://greeves-riders.org.uk/event/the-dave-harper-greeves-championship-foxborough/
LOCATION:Foxborough\, Halstead\, Essex\, CO9 1UH\, United Kingdom
CATEGORIES:Pre 65 Scramble
END:VEVENT
BEGIN:VEVENT
DTSTART;VALUE=DATE:20261011
DTEND;VALUE=DATE:20261013
DTSTAMP:20260420T012310
CREATED:20250211T180205Z
LAST-MODIFIED:20260326T111907Z
UID:10896-1791676800-1791849599@greeves-riders.org.uk
SUMMARY:The Dave Harper Greeves Championship - Marks Tey
DESCRIPTION:2026 DHGC season intro & race schedule
URL:https://greeves-riders.org.uk/event/the-dave-harper-greeves-championship-marks-tey-2/
LOCATION:Marks Tey\, Easthorpe\, Colchester\, CO5 9EX
CATEGORIES:Pre 65 Scramble
END:VEVENT
END:VCALENDAR